BEGIN:VCALENDAR
VERSION:2.0
PRODID:-//eventon.com NONSGML v1.0//EN
CALSCALE:GREGORIAN
METHOD:PUBLISH
BEGIN:VEVENT
UID:69ecf19979a3a
DTSTAMP:20260425T165345Z
DTSTART:20161123T120000Z
DTEND:20161123T160000Z
LOCATION:Tracks Employment 50 Hume Street Collingwood Ontario L9Y 1V2
SUMMARY:Smart Serve Training
DESCRIPTION:Training in class You will be led through the Smart Serve Train
 ing by our certified instructor. Training and certification test are comple
 ted in one 3-4 hour session You must achieve at least 80% in order to pass 
 the certification test (Each purchase includes 2 attempts) Tests are sent t
 o Smart[..]\nhttps://tracks.on.ca/events/smart-serve-training/
URL:https://tracks.on.ca/events/smart-serve-training/
END:VEVENT
END:VCALENDAR