BEGIN:VCALENDAR
VERSION:2.0
PRODID:-//eventon.com NONSGML v1.0//EN
CALSCALE:GREGORIAN
METHOD:PUBLISH
BEGIN:VEVENT
UID:69e992f899174
DTSTAMP:20260423T033312Z
DTSTART:20240520T123000Z
DTEND:20240520T203000Z
LOCATION:
SUMMARY:Victoria Day - Office Closed
DESCRIPTION:\nhttps://tracks.on.ca/events/victoria-day-office-closed-2/
URL:https://tracks.on.ca/events/victoria-day-office-closed-2/
END:VEVENT
END:VCALENDAR